BEGIN:VCALENDAR
VERSION:2.0
PRODID:-//Montessori Schule Geisenhausen - ECPv6.15.12.2//NONSGML v1.0//EN
CALSCALE:GREGORIAN
METHOD:PUBLISH
X-WR-CALNAME:Montessori Schule Geisenhausen
X-ORIGINAL-URL:https://schule.montessori-landshut.de
X-WR-CALDESC:Veranstaltungen für Montessori Schule Geisenhausen
REFRESH-INTERVAL;VALUE=DURATION:PT1H
X-Robots-Tag:noindex
X-PUBLISHED-TTL:PT1H
BEGIN:VTIMEZONE
TZID:Europe/Berlin
BEGIN:DAYLIGHT
TZOFFSETFROM:+0100
TZOFFSETTO:+0200
TZNAME:CEST
DTSTART:20210328T010000
END:DAYLIGHT
BEGIN:STANDARD
TZOFFSETFROM:+0200
TZOFFSETTO:+0100
TZNAME:CET
DTSTART:20211031T010000
END:STANDARD
BEGIN:DAYLIGHT
TZOFFSETFROM:+0100
TZOFFSETTO:+0200
TZNAME:CEST
DTSTART:20220327T010000
END:DAYLIGHT
BEGIN:STANDARD
TZOFFSETFROM:+0200
TZOFFSETTO:+0100
TZNAME:CET
DTSTART:20221030T010000
END:STANDARD
BEGIN:DAYLIGHT
TZOFFSETFROM:+0100
TZOFFSETTO:+0200
TZNAME:CEST
DTSTART:20230326T010000
END:DAYLIGHT
BEGIN:STANDARD
TZOFFSETFROM:+0200
TZOFFSETTO:+0100
TZNAME:CET
DTSTART:20231029T010000
END:STANDARD
END:VTIMEZONE
BEGIN:VEVENT
DTSTART;VALUE=DATE:20220428
DTEND;VALUE=DATE:20220429
DTSTAMP:20260424T180545
CREATED:20220117T121506Z
LAST-MODIFIED:20220118T170428Z
UID:225790-1651104000-1651190399@schule.montessori-landshut.de
SUMMARY:Cambridge B1 Preliminary for Schools
DESCRIPTION:In den Räumen der Montessori-Schule Geisenhausen führt das autorisierte Prüfungszentrum „Test Centre Amberg“ am 28.04.2022 die Prüfung „Cambridge B1 Preliminary for Schools“ durch. Neben Schülerinnen und Schülern der Montessori-Schule sind auch Prüflinge von anderen Schulen willkommen\, die diese Prüfung ablegen wollen. \nDie Anmeldeformalitäten und Prüfungsgebühren laufen über das Test Centre Amberg. Kontaktieren Sie bitte das Prüfungszentrum direkt unter http://www.testcentre-amberg.de/
URL:https://schule.montessori-landshut.de/event/cambridge-b1-preliminary-for-schools/
LOCATION:Montessori-Schule Geisenhausen\, Martinsstraße 3\, Geisenhausen\, Bayern\, 84144\, Deutschland
CATEGORIES:öffentlich
ATTACH;FMTTYPE=image/jpeg:https://schule.montessori-landshut.de/wp-content/uploads/sites/5/2022/01/Cambridge-Preliminary-B1-for-Schools.jpg
END:VEVENT
END:VCALENDAR