BEGIN:VCALENDAR
VERSION:2.0
PRODID:-//Montessori Schule Geisenhausen - ECPv6.15.12.2//NONSGML v1.0//EN
CALSCALE:GREGORIAN
METHOD:PUBLISH
X-ORIGINAL-URL:https://schule.montessori-landshut.de
X-WR-CALDESC:Veranstaltungen für Montessori Schule Geisenhausen
REFRESH-INTERVAL;VALUE=DURATION:PT1H
X-Robots-Tag:noindex
X-PUBLISHED-TTL:PT1H
BEGIN:VTIMEZONE
TZID:Europe/Berlin
BEGIN:DAYLIGHT
TZOFFSETFROM:+0100
TZOFFSETTO:+0200
TZNAME:CEST
DTSTART:20210328T010000
END:DAYLIGHT
BEGIN:STANDARD
TZOFFSETFROM:+0200
TZOFFSETTO:+0100
TZNAME:CET
DTSTART:20211031T010000
END:STANDARD
BEGIN:DAYLIGHT
TZOFFSETFROM:+0100
TZOFFSETTO:+0200
TZNAME:CEST
DTSTART:20220327T010000
END:DAYLIGHT
BEGIN:STANDARD
TZOFFSETFROM:+0200
TZOFFSETTO:+0100
TZNAME:CET
DTSTART:20221030T010000
END:STANDARD
BEGIN:DAYLIGHT
TZOFFSETFROM:+0100
TZOFFSETTO:+0200
TZNAME:CEST
DTSTART:20230326T010000
END:DAYLIGHT
BEGIN:STANDARD
TZOFFSETFROM:+0200
TZOFFSETTO:+0100
TZNAME:CET
DTSTART:20231029T010000
END:STANDARD
END:VTIMEZONE
BEGIN:VEVENT
DTSTART;TZID=Europe/Berlin:20221112T100000
DTEND;TZID=Europe/Berlin:20221112T160000
DTSTAMP:20260422T140946
CREATED:20220923T093918Z
LAST-MODIFIED:20221006T092323Z
UID:226107-1668247200-1668268800@schule.montessori-landshut.de
SUMMARY:Tag der offenen Tür: Montessori-Schule & M-FOS Geisenhausen bei Landshut
DESCRIPTION:Lernen Sie unsere Schulen\, unsere Schulgemeinschaft und das pädagogische Konzept rund um Maria Montessori kennen. \nUm besser planen zu können\, bitten wir um rechtzeitige Online-Anmeldung bei Eventbrite. \nFür alle\, die nicht nach Geisenhausen kommen können\, bieten wir um 17 Uhr einen virtuelllen Rundgang durch die Montessori-Schule an. Auch hier ist eine Anmeldung nötig.  \nOb vor Ort oder virtuell im Online-Rundgang: Wir freuen uns riesig auf Sie!
URL:https://schule.montessori-landshut.de/event/tag-der-offenen-tuer-montessori-schule-m-fos-geisenhausen-bei-landshut/
LOCATION:Montessori-Schule Geisenhausen\, Martinsstraße 3\, Geisenhausen\, Bayern\, 84144\, Deutschland
CATEGORIES:öffentlich
ATTACH;FMTTYPE=image/jpeg:https://schule.montessori-landshut.de/wp-content/uploads/sites/5/2022/09/TdOT-2022-Plakat-20220921-x2048quer.jpg
END:VEVENT
END:VCALENDAR